BEGIN:VCALENDAR
VERSION:2.0
PRODID:-//St. Croix Animal Welfare Center - ECPv6.15.20//NONSGML v1.0//EN
CALSCALE:GREGORIAN
METHOD:PUBLISH
X-WR-CALNAME:St. Croix Animal Welfare Center
X-ORIGINAL-URL:https://stcroixawc.org
X-WR-CALDESC:Events for St. Croix Animal Welfare Center
REFRESH-INTERVAL;VALUE=DURATION:PT1H
X-Robots-Tag:noindex
X-PUBLISHED-TTL:PT1H
BEGIN:VTIMEZONE
TZID:America/St_Thomas
BEGIN:STANDARD
TZOFFSETFROM:-0400
TZOFFSETTO:-0400
TZNAME:AST
DTSTART:20230101T000000
END:STANDARD
END:VTIMEZONE
BEGIN:VTIMEZONE
TZID:UTC
BEGIN:STANDARD
TZOFFSETFROM:+0000
TZOFFSETTO:+0000
TZNAME:UTC
DTSTART:20220101T000000
END:STANDARD
END:VTIMEZONE
BEGIN:VEVENT
DTSTART;TZID=America/St_Thomas:20251101T160000
DTEND;TZID=America/St_Thomas:20251101T190000
DTSTAMP:20260423T080610
CREATED:20251029T125403Z
LAST-MODIFIED:20251029T125654Z
UID:1953-1762012800-1762023600@stcroixawc.org
SUMMARY:Yappy Hour @ Shupes!
DESCRIPTION:Views: 14
URL:https://stcroixawc.org/event/yappy-hour-shupes/
LOCATION:Shupes on the Boardwalk\, 1102 Strand St. Suite 39A\, Christiansted\, St. Croix\, 00820\, Virgin Islands (U.S.)
ATTACH;FMTTYPE=image/png:https://stcroixawc.org/wp-content/uploads/2025/10/Shupes-Yappy-Hour-Nov-1st-scaled.png
END:VEVENT
BEGIN:VEVENT
DTSTART;TZID=America/St_Thomas:20251031T170000
DTEND;TZID=America/St_Thomas:20251031T210000
DTSTAMP:20260423T080610
CREATED:20251028T154706Z
LAST-MODIFIED:20251028T154706Z
UID:1947-1761930000-1761944400@stcroixawc.org
SUMMARY:Halloween Costume Context @ Blues Backyard BBQ
DESCRIPTION:Views: 14 Dress your pups us and come out for a scary time!
URL:https://stcroixawc.org/event/halloween-costume-context-blues-backyard-bbq/
LOCATION:Blues Backyard BBQ\, 32K Estate La Grande Princesse Rte 75\, CHRISTIANSTED\, VI\, 00820\, United States Minor Outlying Islands
ATTACH;FMTTYPE=image/png:https://stcroixawc.org/wp-content/uploads/2025/10/Events-and-More-2.png
END:VEVENT
BEGIN:VEVENT
DTSTART;TZID=America/St_Thomas:20251006T080000
DTEND;TZID=America/St_Thomas:20251009T170000
DTSTAMP:20260423T080610
CREATED:20251001T171738Z
LAST-MODIFIED:20251001T171738Z
UID:1918-1759737600-1760029200@stcroixawc.org
SUMMARY:Free Spay/Neuter Event
DESCRIPTION:Views: 14 Calling all pet parents and trappers!\nWe’re offering FREE spay and neuter surgeries for cats 🐱 and dogs 🐶 — thanks to support from the ASPCA!\n📅 Monday\, October 6th – Thursday\, October 9th\, 2025\n📍 St. Croix Animal Welfare Center Clinic @ Five Corners (next to Thomas Autobody)\n⏰ Drop-off: 8 a.m. – 9 a.m.\n✍️ Space is limited — sign up now to reserve your spot:\n👉 https://forms.gle/KShC3F4J6ZQkdeh76\n📞 Questions? Call 340-778-1651 for more info.\nLet’s work together to reduce unwanted litters and keep our island’s animals healthy and safe 💚✨\n#StCroixAnimalWelfareCenter #SpayAndNeuter #USVICatsAndDogs #CommunityCare #FixYourPet #SCAWC #ASPCA #VirginIslandsPets
URL:https://stcroixawc.org/event/free-spay-neuter-event/
LOCATION:St. Croix Animal Welfare Center Clinic\, 1C/D La Grande Princess\, Christiansted\, VIRGIN ISLANDS\, 00820
ATTACH;FMTTYPE=image/png:https://stcroixawc.org/wp-content/uploads/2025/10/Spay-Neuter-Event-Flyer-1.png
END:VEVENT
BEGIN:VEVENT
DTSTART;TZID=America/St_Thomas:20251004T160000
DTEND;TZID=America/St_Thomas:20251004T180000
DTSTAMP:20260423T080610
CREATED:20251001T172245Z
LAST-MODIFIED:20251002T135726Z
UID:1921-1759593600-1759600800@stcroixawc.org
SUMMARY:Yappy Hour Fundraiser @ Shupes!
DESCRIPTION:Views: 14 See you Saturday! Thanks to Tito’s Handmade Vodka\, CC1 Virgin Islands and Shupe’s on the Boardwalk!— at Shupe’s on the Boardwalk.
URL:https://stcroixawc.org/event/yappy-hour-fundraiser-shupes/
LOCATION:Shupes on the Boardwalk\, 1102 Strand St. Suite 39A\, Christiansted\, St. Croix\, 00820\, Virgin Islands (U.S.)
ATTACH;FMTTYPE=image/jpeg:https://stcroixawc.org/wp-content/uploads/2025/10/556504322_1223459606474588_6194676049173637894_n.jpg
END:VEVENT
BEGIN:VEVENT
DTSTART;TZID=America/St_Thomas:20250405T180000
DTEND;TZID=America/St_Thomas:20250405T220000
DTSTAMP:20260423T080610
CREATED:20250211T162520Z
LAST-MODIFIED:20250402T142010Z
UID:1697-1743876000-1743890400@stcroixawc.org
SUMMARY:The Fur Ball Masquerade 2025
DESCRIPTION:Views: 14 CLICK HERE FOR SPONSORSHIP INFORMATION
URL:https://stcroixawc.org/event/the-fur-ball-masquerade-2025/
LOCATION:Carina Bay Beach Resort\, 5025 Turner Hole Rd.\, Christiansted\, St. Croix\, 00820\, Virgin Islands (U.S.)
CATEGORIES:fundraiser
ATTACH;FMTTYPE=image/png:https://stcroixawc.org/wp-content/uploads/2025/02/Copy-of-Fur-Ball-11-x-14-in.png
END:VEVENT
BEGIN:VEVENT
DTSTART;VALUE=DATE:20250308
DTEND;VALUE=DATE:20250309
DTSTAMP:20260423T080610
CREATED:20250218T175431Z
LAST-MODIFIED:20250218T175431Z
UID:1752-1741392000-1741478399@stcroixawc.org
SUMMARY:PLANT SALE!
DESCRIPTION:Views: 14  MARK YOUR CALENDAR On March 8th SCAWC will be holding a HUGE Plant Sale in the SCAWC Flea Market parking area! Featuring fruiting plants\, tea and cooking plants\, ornamentals\, philodendrons\, ferns\, plumeria\, succulents\, and cactus!
URL:https://stcroixawc.org/event/plant-sale/
LOCATION:SCAWC Flea Market\, 10A La Grande Princesse\, CHRISTIANSTED\, Christiansted\, 00820\, Virgin Islands (U.S.)
CATEGORIES:fundraiser
END:VEVENT
BEGIN:VEVENT
DTSTART;TZID=America/St_Thomas:20250301T083000
DTEND;TZID=America/St_Thomas:20250315T150000
DTSTAMP:20260423T080610
CREATED:20250218T174028Z
LAST-MODIFIED:20250227T202611Z
UID:1746-1740817800-1742050800@stcroixawc.org
SUMMARY:50% off Spay/Neuter Event
DESCRIPTION:Views: 14 \nWe have a high-volume spay/neuter vet joining us for the first two weeks of March and we want to capitalize on this opportunity to really make a difference in our community! From March 1st – March 15th we will be taking as many spay/neuter appointments as possible\, AND we’ll be offering spay/neuter services for 50% off!\n\n\nAppointments are required! Please call 340-778-1651 to make an appointment. Please note\, all appointments require a $25 refundable deposit. All no-call no-show appointments will forfeit their deposit.
URL:https://stcroixawc.org/event/50-off-spay-neuter-event/
LOCATION:St. Croix Animal Welfare Center Clinic\, 1C/D La Grande Princess\, Christiansted\, VIRGIN ISLANDS\, 00820
ATTACH;FMTTYPE=image/jpeg:https://stcroixawc.org/wp-content/uploads/2025/02/476800086_1038510161636201_4052851376897844183_n.jpg
END:VEVENT
BEGIN:VEVENT
DTSTART;TZID=America/St_Thomas:20250228T173000
DTEND;TZID=America/St_Thomas:20250228T220000
DTSTAMP:20260423T080610
CREATED:20250218T180148Z
LAST-MODIFIED:20250218T180148Z
UID:1757-1740763800-1740780000@stcroixawc.org
SUMMARY:The Greatest Show on Earth!
DESCRIPTION:Views: 14
URL:https://stcroixawc.org/event/the-greatest-show-on-earth/
LOCATION:Blues Backyard BBQ\, 32K Estate La Grande Princesse Rte 75\, CHRISTIANSTED\, VI\, 00820\, United States Minor Outlying Islands
CATEGORIES:fundraiser
END:VEVENT
BEGIN:VEVENT
DTSTART;TZID=America/St_Thomas:20240524T090000
DTEND;TZID=America/St_Thomas:20240524T160000
DTSTAMP:20260423T080610
CREATED:20240415T180318Z
LAST-MODIFIED:20240415T183225Z
UID:1146-1716541200-1716566400@stcroixawc.org
SUMMARY:Going Live to Save Lives Fundraising Telethon!
DESCRIPTION:Views: 14 We are hosting a pledge-a-thon fundraising event: Going Live to Save Lives! Going Live to Save Lives is a multi-media streaming event that the St. Croix Animal Welfare Center is hosting on May 24th as an effort to raise funds for our incredibly underfunded open-door animal shelter.\n\nThis seven-hour event will be livestreaming on Facebook\, the VI Source (website and social media)\, on the VIYA app\, and it will be simulcast on Sunny 99.5 fm and WSTX AM 970. This event will have a 20-minute episode on The Tattooed Traveler which will be show on Amazon Fire\, Roku\, and YouTube. It will also be streamed on the Tattooed Traveler website and social media pages. Promos for this event will be running on 32 cable TV stations\, all of the JKC Communication radio stations\, and all of the Caledonia Communication radio stations. WTJX will be streaming it on their Facebook page as well!  Our whole community is pitching in to support.\n\nThis event will be seven hours of content\, including live music\, a fashion show\, meet and greet the shelter pets\, and more!\n\nOur goal is to begin this live event with at least $25k in sponsorship and to raise another $25k during the event. We are asking for community members and businesses to partner with us as one of our sponsors!\n\nClick here to see our sponsorship package!
URL:https://stcroixawc.org/event/going-live-to-save-lives-fundraising-telethon/
LOCATION:St. Croix
END:VEVENT
BEGIN:VEVENT
DTSTART;TZID=UTC:20240302T180000
DTEND;TZID=UTC:20240302T210000
DTSTAMP:20260423T080610
CREATED:20230926T171820Z
LAST-MODIFIED:20240329T180455Z
UID:702-1709402400-1709413200@stcroixawc.org
SUMMARY:Furball 2024
DESCRIPTION:Views: 14 \n				\n				\n				\n				\n				\n				\n				\n				\n				\n				\n				\n				\n				\n				\n				\n				\n				\n				Our Annual Major Fundraiser\, The Furball\, will be held on March 2nd at the Bohlke Hanger! Enjoy music by Mama’s Black Sheep and DJ Chubby\, Food by Umami Sushi STX\, 
URL:https://stcroixawc.org/event/furball-2024/
LOCATION:Bohlke Hangar\, Virgin Islands (U.S.)
ATTACH;FMTTYPE=image/jpeg:https://stcroixawc.org/wp-content/uploads/2023/09/425481945_782259343927952_6046636823433918235_n.jpg
END:VEVENT
BEGIN:VEVENT
DTSTART;TZID=UTC:20231202T110000
DTEND;TZID=UTC:20231202T140000
DTSTAMP:20260423T080610
CREATED:20231001T003917Z
LAST-MODIFIED:20231001T003917Z
UID:767-1701514800-1701525600@stcroixawc.org
SUMMARY:Santa Paws
DESCRIPTION:Views: 14 Grab your kids\, grab your dogs! Santa is coming to Jump Up Deli and Dem Tings on December 2nd from 11am-2pm for photos with children and PETS! SCAWC will also have their annual holiday bake sale! MARK YOUR CALENDAR!
URL:https://stcroixawc.org/event/santa-paws/
LOCATION:Jump Up Deli and Dem Tings\, Christiansted\, 00820\, Virgin Islands (U.S.)
ATTACH;FMTTYPE=image/jpeg:https://stcroixawc.org/wp-content/uploads/2023/09/384530452_705482061605681_5245894863856944559_n.jpg
END:VEVENT
BEGIN:VEVENT
DTSTART;TZID=UTC:20231021T130000
DTEND;TZID=UTC:20231021T190000
DTSTAMP:20260423T080610
CREATED:20230726T000946Z
LAST-MODIFIED:20230926T170527Z
UID:358-1697893200-1697914800@stcroixawc.org
SUMMARY:BarktoberFest
DESCRIPTION:Views: 14
URL:https://stcroixawc.org/event/barktoberfest/
LOCATION:Leatherback Brewing Company\, St Croix\, Virgin Islands (U.S.)
ATTACH;FMTTYPE=image/jpeg:https://stcroixawc.org/wp-content/uploads/2023/07/381377183_699535748866979_2951113120321033175_n.jpg
END:VEVENT
BEGIN:VEVENT
DTSTART;TZID=UTC:20231011T180000
DTEND;TZID=UTC:20231011T200000
DTSTAMP:20260423T080610
CREATED:20230926T171548Z
LAST-MODIFIED:20230926T171548Z
UID:699-1697047200-1697054400@stcroixawc.org
SUMMARY:Maddie's Fund Community Meeting
DESCRIPTION:Views: 14 Join us on October 11th\, 2023 at 6pm at Caribbean Cinemas\, St. Croix for a Community Animal Welfare presentation hosted by Maddie’s Million Pet Challenge and the St. Croix Animal Welfare Center. Anyone interested in helping pets and people are welcome and encouraged to attend and learn about national animal services and sheltering trends and best practices. The presentation will also be live streamed on The St Croix Animal Welfare Center’s Facebook Page.
URL:https://stcroixawc.org/event/maddies-fund-community-meeting/
LOCATION:St. Croix
ATTACH;FMTTYPE=image/jpeg:https://stcroixawc.org/wp-content/uploads/2023/09/383240888_703185645168656_6897374177098232408_n.jpg
END:VEVENT
END:VCALENDAR